BEGIN:VCALENDAR
VERSION:2.0
PRODID:-//Tukios.com/
BEGIN:VEVENT
UID:c6602b1b-b205-40da-976a-3a4c12c3238f@www.rogersfuneralhomes.com
DTSTAMP:20260424T234202Z
DTSTART:20260501T150000Z
DTEND:20260501T160000Z
SUMMARY:Visitation
DESCRIPTION:
URL:https://www.rogersfuneralhomes.com/obituaries/donald-driver
LOCATION:Rogers Funeral Home 324 West Main Street  New Lebanon OH 45345
GEO:39.7453116;-84.391377
END:VEVENT
END:VCALENDAR