BEGIN:VCALENDAR
VERSION:2.0
PRODID:-//Tukios.com/
BEGIN:VEVENT
UID:700cc21a-2712-448e-a458-81f573c253c5@www.rogersfuneralhomes.com
DTSTAMP:20260424T234411Z
DTSTART:20260501T160000Z
DTEND:20260501T170000Z
SUMMARY:Memorial Service
DESCRIPTION:
URL:https://www.rogersfuneralhomes.com/obituaries/donald-driver
LOCATION:Rogers Funeral Home 324 West Main Street  New Lebanon OH 45345
GEO:39.7453116;-84.391377
END:VEVENT
END:VCALENDAR