BEGIN:VCALENDAR
VERSION:2.0
PRODID:-//Tukios.com/
BEGIN:VEVENT
UID:7bc31135-45a8-44d8-a55a-d54e5c861353@www.rogersfuneralhomes.com
DTSTAMP:20260419T130737Z
DTSTART:20260415T210000Z
DTEND:20260415T230000Z
SUMMARY:Visitation
DESCRIPTION:
URL:https://www.rogersfuneralhomes.com/obituaries/william-seals
LOCATION: 324 W Main St  New Lebanon OH 45345
GEO:39.7453116;-84.391377
END:VEVENT
END:VCALENDAR